BEGIN:VCALENDAR
VERSION:2.0
PRODID:-//Vinothèque Luxembourg - ECPv4.4.1.1//NONSGML v1.0//EN
CALSCALE:GREGORIAN
METHOD:PUBLISH
X-WR-CALNAME:Vinothèque Luxembourg
X-ORIGINAL-URL:https://www.vinothequeluxembourg.lu
X-WR-CALDESC:Events for Vinothèque Luxembourg
BEGIN:VEVENT
DTSTART;TZID=UTC+2:20170621T052649
DTEND;TZID=UTC+2:20170621T052649
DTSTAMP:20170621T032649
CREATED:20151013T095745Z
LAST-MODIFIED:20160518T130107Z
UID:732-1498022809-1498022809@www.vinothequeluxembourg.lu
SUMMARY:Events
DESCRIPTION:[vc_row][vc_column][trx_events cat="0"][/vc_column][/vc_row]
URL:https://www.vinothequeluxembourg.lu/events/
END:VEVENT
END:VCALENDAR